BEGIN:VCALENDAR
VERSION:2.0
PRODID:-//hacksw/handcal//NONSGML v1.0//EN
CALSCALE:GREGORIAN
BEGIN:VEVENT
ORGANIZER;CN=Grand Canyon Education:MAILTO:no-reply@mail.gcs-web.com
DTEND:
UID:558d83b0-fce1-4a21-97de-a748597d3ac5
DTSTAMP:1777130884
LOCATION:https://edge.media-server.com/mmc/p/n3dxx5ey/
DESCRIPTION:Event Details https://investors.gce.com/events/event-details/q1-2026-grand-canyon-education-inc-earnings-conference-call\n\nWebcast: https://edge.media-server.com/mmc/p/n3dxx5ey/
URL;VALUE=URI:https://edge.media-server.com/mmc/p/n3dxx5ey/
SUMMARY:Grand Canyon Education - Q1 2026 Grand Canyon Education, Inc. Earnings Conference Call
DTSTART:20260430T203000Z
END:VEVENT
END:VCALENDAR